BEGIN:VCALENDAR
VERSION:2.0
PRODID:-//glorygatechapel.org - ECPv6.15.20//NONSGML v1.0//EN
CALSCALE:GREGORIAN
METHOD:PUBLISH
X-WR-CALNAME:glorygatechapel.org
X-ORIGINAL-URL:https://glorygatechapel.org
X-WR-CALDESC:Events for glorygatechapel.org
REFRESH-INTERVAL;VALUE=DURATION:PT1H
X-Robots-Tag:noindex
X-PUBLISHED-TTL:PT1H
BEGIN:VTIMEZONE
TZID:Africa/Accra
BEGIN:STANDARD
TZOFFSETFROM:+0000
TZOFFSETTO:+0000
TZNAME:GMT
DTSTART:20210101T000000
END:STANDARD
END:VTIMEZONE
BEGIN:VEVENT
DTSTART;TZID=Africa/Accra:20221204T080000
DTEND;TZID=Africa/Accra:20221204T103000
DTSTAMP:20260423T163346
CREATED:20221127T115140Z
LAST-MODIFIED:20221127T115140Z
UID:5538-1670140800-1670149800@glorygatechapel.org
SUMMARY:ONEVOICE THANKSGIVING SUMMIT 22
DESCRIPTION:SPECIAL INVITE TO OUR ONEVOICE THANKSGIVING SUMMIT 22
URL:https://glorygatechapel.org/event/onevoice-thanksgiving-summit-22/
LOCATION:CHURCH AUDITORUIM\, Haasto Video Junction\, Accra\, Ghana\, 2233\, Ghana
ATTACH;FMTTYPE=image/jpeg:https://glorygatechapel.org/wp-content/uploads/2022/11/ONEVOICE.jpg
END:VEVENT
END:VCALENDAR